BEGIN:VCALENDAR
VERSION:2.0
CALSCALE:GREGORIAN
PRODID:adamgibbons/ics
METHOD:PUBLISH
X-PUBLISHED-TTL:PT1H
BEGIN:VEVENT
UID:13132@do.basspistol.org
SUMMARY:Sheev (progressive stoner metal) / Incijam (psychedelic rock)
DTSTAMP:20260421T161222Z
DTSTART:20260423T170000Z
DTEND:20260423T213000Z
URL:https://do.basspistol.org/event/sheev-progressive-stoner-metal-incijam-
	psychedelic-rock
LOCATION:Neue Zukunft - Alt-Stralau 68\, 10245 Berlin
STATUS:CONFIRMED
CATEGORIES:berlin,diy,heavy psych,progressive rock,psychedelic rock,stoner 
	metal,stoner rock
END:VEVENT
BEGIN:VEVENT
UID:12447@do.basspistol.org
SUMMARY:USU pres.: NAXATRAS + support | Neue Zukunft - 27.04.2026
DTSTAMP:20260421T161222Z
DTSTART:20260427T180000Z
DTEND:20260427T213000Z
URL:https://do.basspistol.org/event/usu-pres-naxatras-support-or-neue-zukun
	ft-27042026
LOCATION:Neue Zukunft - Alt-Stralau 68\, 10245 Berlin
STATUS:CONFIRMED
CATEGORIES:berlin,diy,experimental rock,heavy psych,progressive rock,psyche
	delic rock,stoner rock
END:VEVENT
END:VCALENDAR
